BEGIN:VCALENDAR
PRODID:-//github.com/rianjs/ical.net//NONSGML ical.net 4.0//EN
VERSION:2.0
BEGIN:VEVENT
DESCRIPTION:Treffen der Mitglieder und Unterstützende\, Gäste willkommen\n
 https://touren-termine.adfc.de/radveranstaltung/198549-mitgliedertreffen-
 adfc-og-brannenburginntal-kopie
DTEND:20260518T190000Z
DTSTAMP:20260419T231144Z
DTSTART:20260518T170000Z
LOCATION:Rosenheimer Straße 5\, 1. Stock Zimmer 2\, Brannenburg\, 83098 La
 ndkreis Rosenheim
SEQUENCE:0
SUMMARY:Mitgliedertreffen ADFC OG Brannenburg-Inntal (Kopie)
UID:78cdd18f-5ec6-439a-8c9c-1835f8273b82
URL:https://touren-termine.adfc.de/radveranstaltung/198549-mitgliedertreff
 en-adfc-og-brannenburginntal-kopie
END:VEVENT
END:VCALENDAR
