BEGIN:VCALENDAR
PRODID:-//github.com/rianjs/ical.net//NONSGML ical.net 4.0//EN
VERSION:2.0
BEGIN:VEVENT
DESCRIPTION:In gemütlicher Runde plaudern Radfahrbegeisterte über Touren\,
  Technik\, Verkehr usw.. Gäste sind herzlich eingeladen.\nhttps://touren-
 termine.adfc.de/radveranstaltung/165097-monatliches-treffen-juli-schlossk
 onig
DTEND:20250702T190000Z
DTSTAMP:20260421T184801Z
DTSTART:20250702T163000Z
LOCATION:Neue Straße 3c\, 29221 Celle
SEQUENCE:0
SUMMARY:Monatliches Treffen\, Juli (Schlosskönig)
UID:954d7199-0d33-4428-8c0b-2b3667eda110
URL:https://touren-termine.adfc.de/radveranstaltung/165097-monatliches-tre
 ffen-juli-schlosskonig
END:VEVENT
END:VCALENDAR
