BEGIN:VCALENDAR
PRODID:-//github.com/rianjs/ical.net//NONSGML ical.net 4.0//EN
VERSION:2.0
BEGIN:VEVENT
DESCRIPTION:Mit der Bahn nach Freudenstadt\, von dort mit dem Rad den Kinz
 igtalradweg nach Offenburg\nhttps://touren-termine.adfc.de/radveranstaltu
 ng/181624-der-kinzigtalradweg
DTEND:20260802T150000Z
DTSTAMP:20260422T231635Z
DTSTART:20260802T064000Z
LOCATION:Hauptbahnhof\, 77652 Offenburg
SEQUENCE:0
SUMMARY:Der Kinzigtal-Radweg
UID:817b6fe3-15e5-4f4b-96aa-57f44f2d05fd
URL:https://touren-termine.adfc.de/radveranstaltung/181624-der-kinzigtalra
 dweg
END:VEVENT
END:VCALENDAR
