BEGIN:VCALENDAR
PRODID:-//github.com/rianjs/ical.net//NONSGML ical.net 4.0//EN
VERSION:2.0
BEGIN:VEVENT
DESCRIPTION:Aktiventreff: In gemütlicher Runde besprechen wir die aktuelle
 n Fahrrad-Themen in Berlin Mitte. Treffpunkt erneut geändert! Wir treffen
  uns jetzt im DOREE 65 gegenüber dem Deichgraf Komm dazu!\nhttps://touren
 -termine.adfc.de/radveranstaltung/196157-treffen-der-stadtteilgruppe-adfc
 -berlin-mitte
DTEND:20260722T190000Z
DTSTAMP:20260419T154959Z
DTSTART:20260722T173000Z
LOCATION:DOREE 65\, Torfstraße 9\, 13353 Berlin
SEQUENCE:0
SUMMARY:Treffen der Stadtteilgruppe ADFC Berlin Mitte
UID:440d156b-c290-4727-bdde-11995686f533
URL:https://touren-termine.adfc.de/radveranstaltung/196157-treffen-der-sta
 dtteilgruppe-adfc-berlin-mitte
END:VEVENT
END:VCALENDAR
