BEGIN:VCALENDAR
PRODID:-//github.com/rianjs/ical.net//NONSGML ical.net 4.0//EN
VERSION:2.0
BEGIN:VEVENT
DESCRIPTION:Auf dem Illerradweg nach Immenstadt\nhttps://touren-termine.ad
 fc.de/radveranstaltung/191322-illerradweg
DTEND:20261001T160000Z
DTSTAMP:20260425T153613Z
DTSTART:20261001T090000Z
LOCATION:Bahnhofplatz 1\, 87435 Kempten (Allgäu)
SEQUENCE:0
SUMMARY:Illerradweg
UID:c894f59f-d882-4716-b4dd-e40db8d83af2
URL:https://touren-termine.adfc.de/radveranstaltung/191322-illerradweg
END:VEVENT
END:VCALENDAR
