BEGIN:VCALENDAR
PRODID:-//github.com/rianjs/ical.net//NONSGML ical.net 4.0//EN
VERSION:2.0
BEGIN:VEVENT
DESCRIPTION:Die Bezirksgruppe Altona setzt sich für den Radverkehr in alle
 n Straßen und Stadtteilen von Rissen bis Sternschanze ein.\nhttps://toure
 n-termine.adfc.de/radveranstaltung/132558-bezirksgruppe-altona
DTEND:20250219T200000Z
DTSTAMP:20260420T231803Z
DTSTART:20250219T180000Z
LOCATION:Flavour Court im Othmarscher Tennis-Club\, 22763 Hamburg\, Othmar
 schen
SEQUENCE:0
SUMMARY:Bezirksgruppe Altona
UID:d04fc02e-276d-428b-abc7-3af62e2dbc0a
URL:https://touren-termine.adfc.de/radveranstaltung/132558-bezirksgruppe-a
 ltona
END:VEVENT
END:VCALENDAR
