BEGIN:VCALENDAR
PRODID:-//github.com/rianjs/ical.net//NONSGML ical.net 4.0//EN
VERSION:2.0
BEGIN:VEVENT
DESCRIPTION:Bei unserer Tour durch Marzahn-Hellersdorf fahren wir zu versc
 hiedenen Kunstobjekten im Bezirk. Eine Kieztour für Neuentdecker:innen un
 d Berliner:innen\nhttps://touren-termine.adfc.de/radveranstaltung/131524-
 kunst-und-kultour-kieztour-der-stg-wuhletal
DTEND:20240505T150000Z
DTSTAMP:20260421T233556Z
DTSTART:20240505T120000Z
LOCATION:Biesdorfer Promenade Ecke Eugen-Roth-Weg\, 12683 Berlin
SEQUENCE:0
SUMMARY:Kunst und KulTour – Kieztour der STG Wuhletal
UID:d3fd4331-f2b6-4a2f-a756-ad4f2ad66a6e
URL:https://touren-termine.adfc.de/radveranstaltung/131524-kunst-und-kulto
 ur-kieztour-der-stg-wuhletal
END:VEVENT
END:VCALENDAR
