BEGIN:VCALENDAR
PRODID:-//github.com/rianjs/ical.net//NONSGML ical.net 4.0//EN
VERSION:2.0
BEGIN:VEVENT
DESCRIPTION:Mahnwache für den in Wilhelmsburg getöteten Radfahrer\nhttps:/
 /touren-termine.adfc.de/radveranstaltung/114533-mahnwache-fur-getoteten-r
 adfahrer
DTEND:20231217T150000Z
DTSTAMP:20260421T024347Z
DTSTART:20231217T140000Z
LOCATION:Kreuzung Neuhöfer Straße / Neuhöver Damm\, 21107 Hamburg
SEQUENCE:0
SUMMARY:Mahnwache für getöteten Radfahrer
UID:2481d7ff-4f18-4ff7-83fd-2c339ebcdfea
URL:https://touren-termine.adfc.de/radveranstaltung/114533-mahnwache-fur-g
 etoteten-radfahrer
END:VEVENT
END:VCALENDAR
