BEGIN:VCALENDAR
PRODID:-//github.com/rianjs/ical.net//NONSGML ical.net 4.0//EN
VERSION:2.0
BEGIN:VEVENT
DESCRIPTION:Im Rahmen unserer achten Tour entdecken wir einen weiteren Ess
 ener Friedhof.\nhttps://touren-termine.adfc.de/radveranstaltung/183902-es
 sen-jenseits-die-friedhofe-unserer-stadt-8
DTEND:20261017T160000Z
DTSTAMP:20260419T144200Z
DTSTART:20261017T110000Z
LOCATION:Kopstadtplatz\, 45127 Essen
SEQUENCE:0
SUMMARY:"Essen jenseits" – die Friedhöfe unserer Stadt #8
UID:3f40a213-6cd0-4a67-b85a-d1b50ac7e440
URL:https://touren-termine.adfc.de/radveranstaltung/183902-essen-jenseits-
 die-friedhofe-unserer-stadt-8
END:VEVENT
END:VCALENDAR
