BEGIN:VCALENDAR
PRODID:-//github.com/rianjs/ical.net//NONSGML ical.net 4.0//EN
VERSION:2.0
BEGIN:VEVENT
DESCRIPTION:Wir fahren mit dem Zug nach Helmstedt\, treffen dort auf eine 
 Gruppe aus Magdeburg und fahren die NaTour rund um Helmstedt (ohne Panzer
 straße)\nhttps://touren-termine.adfc.de/radveranstaltung/191953-stadtepar
 tnerschaftstour-natour-helmstedt
DTEND:20260926T130000Z
DTSTAMP:20260423T015438Z
DTSTART:20260926T060000Z
LOCATION:Bahnhofsvorplatz\, 38102 Braunschweig
SEQUENCE:0
SUMMARY:Städtepartnerschaftstour NaTour Helmstedt
UID:d1bb1b01-d783-4ec8-97e4-47331f65fbde
URL:https://touren-termine.adfc.de/radveranstaltung/191953-stadtepartnersc
 haftstour-natour-helmstedt
END:VEVENT
END:VCALENDAR
