BEGIN:VCALENDAR
PRODID:-//github.com/rianjs/ical.net//NONSGML ical.net 4.0//EN
VERSION:2.0
BEGIN:VEVENT
DESCRIPTION:Der Posthornweg ist eine Rundfahrt um die Stadt Langenfeld. Ta
 gestour mit Einkehr\nhttps://touren-termine.adfc.de/radveranstaltung/1390
 70-posthornweg
DTEND:20241108T160000Z
DTSTAMP:20260421T121103Z
DTSTART:20241108T083000Z
LOCATION:Wupsi-Kundencenter Freiherr-vom-Stein-Straße 1\, 51379 Leverkusen
SEQUENCE:0
SUMMARY:Posthornweg
UID:2d4d3037-85a0-4d17-88b9-4ebe06c8ccec
URL:https://touren-termine.adfc.de/radveranstaltung/139070-posthornweg
END:VEVENT
END:VCALENDAR
