BEGIN:VCALENDAR
PRODID:-//github.com/rianjs/ical.net//NONSGML ical.net 4.0//EN
VERSION:2.0
BEGIN:VEVENT
DESCRIPTION:Eine 15 km lange Wanderung von Grünau über die Kanonenberge zu
 m Gipfelkreuz auf den Müggelbergen. Ende ist in Friedrichshagen\, wo man 
 zwei km auch mit der Tram noch einsparen könnte. Ohne Anmeldung!\nhttps:/
 /touren-termine.adfc.de/radveranstaltung/181938-wanderung-gipfelkreuz
DTEND:20260101T150000Z
DTSTAMP:20260424T190316Z
DTSTART:20260101T100000Z
LOCATION:S-Bahnhof Grünau\, Vorhalle Ausgang Adlergestell\, 12527 Berlin
SEQUENCE:0
SUMMARY:Wanderung: Gipfelkreuz
UID:df00f474-3b5b-4ee1-90de-6e9399ce9f04
URL:https://touren-termine.adfc.de/radveranstaltung/181938-wanderung-gipfe
 lkreuz
END:VEVENT
END:VCALENDAR
