BEGIN:VCALENDAR
PRODID:-//github.com/rianjs/ical.net//NONSGML ical.net 4.0//EN
VERSION:2.0
BEGIN:VEVENT
DESCRIPTION:Weilheim-Ammer-Wielenbach-Wilzhofen-Weilheim\nhttps://touren-t
 ermine.adfc.de/radveranstaltung/160093-feierabendtour
DTEND:20250404T170000Z
DTSTAMP:20260421T101133Z
DTSTART:20250404T140000Z
LOCATION:Marienplatz\, 82362 Weilheim
SEQUENCE:0
SUMMARY:Feierabendtour
UID:1e424c1f-a500-437c-9fc0-4f3fef188aab
URL:https://touren-termine.adfc.de/radveranstaltung/160093-feierabendtour
END:VEVENT
END:VCALENDAR
