BEGIN:VCALENDAR
PRODID:-//github.com/rianjs/ical.net//NONSGML ical.net 4.0//EN
VERSION:2.0
BEGIN:VEVENT
DESCRIPTION:Tour von der Hanse Stadt Hattingen zum Westfälischen Hansetag 
 in Hamm\nhttps://touren-termine.adfc.de/radveranstaltung/190676-hanserade
 ln
DTEND:20260412T180000Z
DTSTAMP:20260421T190539Z
DTSTART:20260412T080000Z
LOCATION:Parkplatz Holschentor\, Talstraße 8\, 45525 Hattingen
SEQUENCE:0
SUMMARY:Hanse-Radeln
UID:94e1e36e-4ebe-4bfe-a381-badcdbcabe90
URL:https://touren-termine.adfc.de/radveranstaltung/190676-hanseradeln
END:VEVENT
END:VCALENDAR
