BEGIN:VCALENDAR
PRODID:-//github.com/rianjs/ical.net//NONSGML ical.net 4.0//EN
VERSION:2.0
BEGIN:VEVENT
DESCRIPTION:Rauf aufs Rad für eine Spritztour in die Umgebung von Gauting!
 \nWöchentlich wechselnd naturkundliche Touren und Cappuccino-Touren.\nhtt
 ps://touren-termine.adfc.de/radveranstaltung/154661-wochentliche-nachmitt
 agstour-in-gauting
DTEND:20250923T150000Z
DTSTAMP:20260425T150637Z
DTSTART:20250923T120000Z
LOCATION:Rathaus\, Bahnhofstraße 7\, 82131 Gauting
SEQUENCE:0
SUMMARY:Wöchentliche Nachmittagstour in Gauting
UID:47f5d69c-8523-4453-a5fa-eb171d4a96cc
URL:https://touren-termine.adfc.de/radveranstaltung/154661-wochentliche-na
 chmittagstour-in-gauting
END:VEVENT
END:VCALENDAR
