BEGIN:VCALENDAR
PRODID:-//github.com/rianjs/ical.net//NONSGML ical.net 4.0//EN
VERSION:2.0
BEGIN:VEVENT
DESCRIPTION:30 bis 35 km\, gemütliches Tempo um 15 km/h mit Pausen und Ein
 kehr\, Treffpunkt immer am Parkplatz am Stadtwald RY\, 13:00 Uhr\, jeden 
 4. Donnerstag im Monat von April bis September.\nhttps://touren-termine.a
 dfc.de/radveranstaltung/156538-adfcseniorentour-2025
DTEND:20250925T150000Z
DTSTAMP:20260420T231345Z
DTSTART:20250925T110000Z
LOCATION:An der Rheydter Höhe 54\, 41239 Mönchengladbach
SEQUENCE:0
SUMMARY:ADFC-Seniorentour 2025
UID:522c4e4c-2c30-4ca6-9b2f-7a01d7d4813e
URL:https://touren-termine.adfc.de/radveranstaltung/156538-adfcseniorentou
 r-2025
END:VEVENT
END:VCALENDAR
