BEGIN:VCALENDAR
PRODID:-//github.com/rianjs/ical.net//NONSGML ical.net 4.0//EN
VERSION:2.0
BEGIN:VEVENT
DESCRIPTION:Die Bezirksgruppe Altona setzt sich für den Radverkehr in alle
 n Straßen und Stadtteilen von Rissen bis Sternschanze ein.\nhttps://toure
 n-termine.adfc.de/radveranstaltung/132569-bezirksgruppe-altona
DTEND:20260121T200000Z
DTSTAMP:20260420T232337Z
DTSTART:20260121T180000Z
LOCATION:Flavour Court im Othmarscher Tennis-Club\, 22763 Hamburg\, Othmar
 schen
SEQUENCE:0
SUMMARY:Bezirksgruppe Altona
UID:4c598701-02e9-4e22-b7c8-e31f62384983
URL:https://touren-termine.adfc.de/radveranstaltung/132569-bezirksgruppe-a
 ltona
END:VEVENT
END:VCALENDAR
