BEGIN:VCALENDAR
PRODID:-//github.com/rianjs/ical.net//NONSGML ical.net 4.0//EN
VERSION:2.0
BEGIN:VEVENT
DESCRIPTION:Immer mittwochs bis September.\nTreffpunkt: 18 Uhr Fansteinrau
 te im Borussia-Park\nhttps://touren-termine.adfc.de/radveranstaltung/8850
 9-adfcafterworksporttour
DTEND:20230830T180000Z
DTSTAMP:20260421T230404Z
DTSTART:20230830T160000Z
LOCATION:Fan-Raute am Borussia Park\, 41179 Mönchengladbach
SEQUENCE:0
SUMMARY:ADFC-Afterwork-Sporttour
UID:4d6c91a4-b148-4c09-8ea4-0f20788879cd
URL:https://touren-termine.adfc.de/radveranstaltung/88509-adfcafterworkspo
 rttour
END:VEVENT
END:VCALENDAR
