BEGIN:VCALENDAR
PRODID:-//github.com/rianjs/ical.net//NONSGML ical.net 4.0//EN
VERSION:2.0
BEGIN:VEVENT
DESCRIPTION:Zorneding - Oberndorf - Maxlrain (Bräustüberl)\nhttps://touren
 -termine.adfc.de/radveranstaltung/124115-von-zorneding-nach-maxlrain
DTEND:20240609T160000Z
DTSTAMP:20260421T100721Z
DTSTART:20240609T080000Z
LOCATION:Bike & Ride Fahrradparkhaus\, 85221 Dachau
SEQUENCE:0
SUMMARY:Von Zorneding nach Maxlrain
UID:fb107ef5-0202-4ea0-9796-0e1368ddaad5
URL:https://touren-termine.adfc.de/radveranstaltung/124115-von-zorneding-n
 ach-maxlrain
END:VEVENT
END:VCALENDAR
