BEGIN:VCALENDAR
PRODID:-//github.com/rianjs/ical.net//NONSGML ical.net 4.0//EN
VERSION:2.0
BEGIN:VEVENT
DESCRIPTION:Über Nebenstraßen und viele Waldwege zum Aussichtspunkt Hoher 
 Wald. Dort werden wir den Ausblick genießen.\nÜber den Südhang (wieder mi
 t Aussicht) geht es nach Littfeld und zum Eichenhof.\nhttps://touren-term
 ine.adfc.de/radveranstaltung/119300-pedelec-feierabendtour-hoher-wald
DTEND:20240613T190000Z
DTSTAMP:20260422T234435Z
DTSTART:20240613T160000Z
LOCATION:Marburger Straße\, Roter Platz\, 57223 Kreuztal
SEQUENCE:0
SUMMARY:Pedelec Feierabendtour Hoher Wald
UID:f5bdd3ac-ef42-49e0-9cdd-6a76368bbe02
URL:https://touren-termine.adfc.de/radveranstaltung/119300-pedelec-feierab
 endtour-hoher-wald
END:VEVENT
END:VCALENDAR
