BEGIN:VCALENDAR
PRODID:-//github.com/rianjs/ical.net//NONSGML ical.net 4.0//EN
VERSION:2.0
BEGIN:VEVENT
DESCRIPTION:Wir bieten verschiedene Strecken zwischen 25 km und 35 km Läng
 e mit einer Fahrtdauer von ca. 2 Stunden an.\nhttps://touren-termine.adfc
 .de/radveranstaltung/144653-feierabendtour-parkplatz-donauarena
DTEND:20250702T190000Z
DTSTAMP:20260420T083111Z
DTSTART:20250702T160000Z
LOCATION:Parkplatz Donau-Arena\, Walhalla-Allee\, 93055 Regensburg
SEQUENCE:0
SUMMARY:Feierabendtour: Parkplatz Donau-Arena
UID:5730b7c4-1990-4c1c-9a54-131826e1fa09
URL:https://touren-termine.adfc.de/radveranstaltung/144653-feierabendtour-
 parkplatz-donauarena
END:VEVENT
END:VCALENDAR
