BEGIN:VCALENDAR
PRODID:-//github.com/rianjs/ical.net//NONSGML ical.net 4.0//EN
VERSION:2.0
BEGIN:VEVENT
DESCRIPTION:Auf dem Holländerrundweg von Oranienburg zum Stadthafen nach L
 iebenwalde und zurück\nhttps://touren-termine.adfc.de/radveranstaltung/17
 3686-herbsttour-nach-liebenwalde
DTEND:20251025T140000Z
DTSTAMP:20260425T231709Z
DTSTART:20251025T080000Z
LOCATION:Bahnhof\, 16515 Oranienburg
SEQUENCE:0
SUMMARY:Herbsttour nach Liebenwalde
UID:69ccb2bd-1aad-4247-a1e4-45eeca3351c3
URL:https://touren-termine.adfc.de/radveranstaltung/173686-herbsttour-nach
 -liebenwalde
END:VEVENT
END:VCALENDAR
