BEGIN:VCALENDAR
PRODID:-//github.com/rianjs/ical.net//NONSGML ical.net 4.0//EN
VERSION:2.0
BEGIN:VEVENT
DESCRIPTION:Gemeinsam erkunden wir im gemächlichen Tempo die gar nicht meh
 r so neue Siegener Umweltspur.\nhttps://touren-termine.adfc.de/radveranst
 altung/170063-flanieren-auf-der-umweltspur
DTEND:20250918T173000Z
DTSTAMP:20260423T030926Z
DTSTART:20250918T160000Z
LOCATION:Bahnhof Weidenau\, 57076 Siegen
SEQUENCE:0
SUMMARY:Flanieren auf der Umweltspur
UID:3b84f193-9fd7-469d-8bd7-09d83db17855
URL:https://touren-termine.adfc.de/radveranstaltung/170063-flanieren-auf-d
 er-umweltspur
END:VEVENT
END:VCALENDAR
