BEGIN:VCALENDAR
PRODID:-//github.com/rianjs/ical.net//NONSGML ical.net 4.0//EN
VERSION:2.0
BEGIN:VEVENT
DESCRIPTION:Die Bezirksgruppe Altona setzt sich für den Radverkehr in alle
 n Straßen und Stadtteilen von Rissen bis Sternschanze ein.\nhttps://toure
 n-termine.adfc.de/radveranstaltung/132575-bezirksgruppe-altona
DTEND:20260708T190000Z
DTSTAMP:20260420T230746Z
DTSTART:20260708T170000Z
LOCATION:Flavour Court im Othmarscher Tennis-Club\, 22763 Hamburg\, Othmar
 schen
SEQUENCE:0
SUMMARY:Bezirksgruppe Altona
UID:afe2fd29-9069-4891-9daf-be0eb43ec53e
URL:https://touren-termine.adfc.de/radveranstaltung/132575-bezirksgruppe-a
 ltona
END:VEVENT
END:VCALENDAR
