BEGIN:VCALENDAR
PRODID:-//github.com/rianjs/ical.net//NONSGML ical.net 4.0//EN
VERSION:2.0
BEGIN:VEVENT
DESCRIPTION:Von Crailsheim über Ilshofen kurz vor Langenburg wieder ins Ja
 gsttal. Von Langenburg über die Jagst und die Anhöhe an den Kocher und sc
 hließlich von Braunsbach und SHA nach Hessental.\nhttps://touren-termine.
 adfc.de/radveranstaltung/100710-crailsheim-langenburg-hessental
DTEND:20230810T160000Z
DTSTAMP:20260424T143134Z
DTSTART:20230810T064500Z
LOCATION:Kegelenstraße 12\, 70372 Stuttgart
SEQUENCE:0
SUMMARY:Crailsheim - Langenburg - Hessental
UID:fbde6287-00e2-481a-92f4-27000f25a2a2
URL:https://touren-termine.adfc.de/radveranstaltung/100710-crailsheim-lang
 enburg-hessental
END:VEVENT
END:VCALENDAR
