BEGIN:VCALENDAR
PRODID:-//github.com/rianjs/ical.net//NONSGML ical.net 4.0//EN
VERSION:2.0
BEGIN:VEVENT
DESCRIPTION:ADFC-Fahrradcodierung in der Geschäftsstelle\nhttps://touren-t
 ermine.adfc.de/radveranstaltung/175772-fahrradcodierung-adfc-leverkusen-2
 026
DTEND:20260413T120000Z
DTSTAMP:20260419T155718Z
DTSTART:20260413T090000Z
LOCATION:ADFC-Geschäftsstelle\, Freiherr-vom-Stein-Straße 5a\, 51379 Lever
 kusen
SEQUENCE:0
SUMMARY:Fahrradcodierung ADFC Leverkusen 2026
UID:afe79229-4781-481d-be36-7c0b4aa44f7b
URL:https://touren-termine.adfc.de/radveranstaltung/175772-fahrradcodierun
 g-adfc-leverkusen-2026
END:VEVENT
END:VCALENDAR
