BEGIN:VCALENDAR
PRODID:-//github.com/rianjs/ical.net//NONSGML ical.net 4.0//EN
VERSION:2.0
BEGIN:VEVENT
DESCRIPTION:Wir fahren mit der Bahn nach Haßfurt um mit den Mitgliedern de
 s Landkreises Haßberge gemeinsam das Winterdorf zu besuchen.\nhttps://tou
 ren-termine.adfc.de/radveranstaltung/180497-mit-der-bahn-zum-winterdorf-n
 ach-hassfurt
DTEND:20251221T183000Z
DTSTAMP:20260421T143923Z
DTSTART:20251221T153500Z
LOCATION:Ludwigstraße\, 96052 Bamberg
SEQUENCE:0
SUMMARY:Mit der Bahn zum Winterdorf nach Haßfurt
UID:0ac41c64-25b8-4cda-b9bb-6f88d5629e84
URL:https://touren-termine.adfc.de/radveranstaltung/180497-mit-der-bahn-zu
 m-winterdorf-nach-hassfurt
END:VEVENT
END:VCALENDAR
