BEGIN:VCALENDAR
PRODID:-//github.com/rianjs/ical.net//NONSGML ical.net 4.0//EN
VERSION:2.0
BEGIN:VEVENT
DESCRIPTION:Du willst die Radfahrsituation in Korschenbroich verbessern? D
 ann bist du hier richtig.\nhttps://touren-termine.adfc.de/radveranstaltun
 g/137391-arbeitskreis-mobilitat-und-sicherheit
DTEND:20241219T200000Z
DTSTAMP:20260423T153321Z
DTSTART:20241219T173000Z
LOCATION:GyKo\, Don-Bosco-Straße 4-6\, Eingang Borrenweg\, 41352 Korschenb
 roich
SEQUENCE:0
SUMMARY:Arbeitskreis Mobilität und Sicherheit
UID:5ca65345-0ef1-4ef6-bc9e-eaed5e37eb55
URL:https://touren-termine.adfc.de/radveranstaltung/137391-arbeitskreis-mo
 bilitat-und-sicherheit
END:VEVENT
END:VCALENDAR
