BEGIN:VCALENDAR
PRODID:-//github.com/rianjs/ical.net//NONSGML ical.net 4.0//EN
VERSION:2.0
BEGIN:VEVENT
DESCRIPTION:Der ADFC Neumünster führt „(E) Bike-Fahrsicherheitskurse“ durc
 h\, die dazu beitragen\, die Fähigkeiten und Fertigkeiten von Pedelec-Fah
 rern und -Fahrerinnen weiter zu entwickeln.\nhttps://touren-termine.adfc.
 de/radveranstaltung/197029-ebikefahrsicherheitstraining
DTEND:20260421T150000Z
DTSTAMP:20260421T073835Z
DTSTART:20260421T120000Z
LOCATION:Färberstraße\, 24534 Neumünster
SEQUENCE:0
SUMMARY:(E)-Bike-Fahrsicherheitstraining
UID:8a9f06f0-c381-4283-b072-a870feb12c83
URL:https://touren-termine.adfc.de/radveranstaltung/197029-ebikefahrsicher
 heitstraining
END:VEVENT
END:VCALENDAR
