BEGIN:VCALENDAR
PRODID:-//github.com/rianjs/ical.net//NONSGML ical.net 4.0//EN
VERSION:2.0
BEGIN:VEVENT
DESCRIPTION:Georg zeigt uns das nochmal das Westallgäu\nhttps://touren-ter
 mine.adfc.de/radveranstaltung/191824-oberschwaben-westallgau-mit-georg
DTEND:20260822T150000Z
DTSTAMP:20260424T151538Z
DTSTART:20260822T080000Z
LOCATION:Kneippstraße\, 88316 Isny im Allgäu
SEQUENCE:0
SUMMARY:Oberschwaben - Westallgäu mit Georg
UID:bce185b3-015a-4327-859d-06e418038d47
URL:https://touren-termine.adfc.de/radveranstaltung/191824-oberschwaben-we
 stallgau-mit-georg
END:VEVENT
END:VCALENDAR
