BEGIN:VCALENDAR
PRODID:-//github.com/rianjs/ical.net//NONSGML ical.net 4.0//EN
VERSION:2.0
BEGIN:VEVENT
DESCRIPTION:Genußtour zu einem der schönsten Biergärten Münchens\nhttps://
 touren-termine.adfc.de/radveranstaltung/99983-hirschgarten
DTEND:20230816T190000Z
DTSTAMP:20260419T143854Z
DTSTART:20230816T160000Z
LOCATION:Bahnhofplatz\, 85221 Dachau
SEQUENCE:0
SUMMARY:Hirschgarten
UID:52b2bae2-5eeb-465a-bccb-dcf20765e38a
URL:https://touren-termine.adfc.de/radveranstaltung/99983-hirschgarten
END:VEVENT
END:VCALENDAR
