BEGIN:VCALENDAR
PRODID:-//github.com/rianjs/ical.net//NONSGML ical.net 4.0//EN
VERSION:2.0
BEGIN:VEVENT
DESCRIPTION:55_km_Teerkuhlen-Museum_Haenigsen\nHier auch Stärkung mit Kaff
 ee und Kuchen.\nhttps://touren-termine.adfc.de/radveranstaltung/159273-ta
 gestour-55-km-teerkuhlenmuseum
DTEND:20250914T153000Z
DTSTAMP:20260423T105501Z
DTSTART:20250914T080000Z
LOCATION:Fuhrberger Straße 4\, 30938 Burgwedel
SEQUENCE:0
SUMMARY:Tagestour 55 km Teerkuhlen-Museum
UID:87fa8b04-59ab-416a-ba1e-ab88c5ad91c8
URL:https://touren-termine.adfc.de/radveranstaltung/159273-tagestour-55-km
 -teerkuhlenmuseum
END:VEVENT
END:VCALENDAR
