BEGIN:VCALENDAR
PRODID:-//github.com/rianjs/ical.net//NONSGML ical.net 4.0//EN
VERSION:2.0
BEGIN:VEVENT
DESCRIPTION:Gemeinsam Radfahren! Am Sonntag\, den 4. Mai 2025 heißt es wie
 der: Rauf aufs und gemeinsam Langenhagen und seine Ortsteile erkunden ...
 \nhttps://touren-termine.adfc.de/radveranstaltung/145567-extern-fahrradfa
 hren-auf-der-fahrkultour-2025-
DTEND:20250504T130000Z
DTSTAMP:20260424T173053Z
DTSTART:20250504T080000Z
LOCATION:Verschiedene Startpunkte\, 30853 Langenhagen
SEQUENCE:0
SUMMARY:Extern! Fahrradfahren auf der FahrKulTour 2025 ⓇⓈ
UID:8e07a232-c682-46fa-9a4f-266ed0fef4be
URL:https://touren-termine.adfc.de/radveranstaltung/145567-extern-fahrradf
 ahren-auf-der-fahrkultour-2025-
END:VEVENT
END:VCALENDAR
