BEGIN:VCALENDAR
PRODID:-//github.com/rianjs/ical.net//NONSGML ical.net 4.0//EN
VERSION:2.0
BEGIN:VEVENT
DESCRIPTION:Jeden Montag findet morgens eine Radtour statt.\nhttps://toure
 n-termine.adfc.de/radveranstaltung/132064-montag-morgen-tour
DTEND:20240512T100000Z
DTSTAMP:20260423T201244Z
DTSTART:20240506T080000Z
LOCATION:In der Ahe 29\, 27356 Rotenburg
SEQUENCE:0
SUMMARY:Montag Morgen Tour
UID:75f40a8a-69e9-4fc4-80f1-f535d35b67f7
URL:https://touren-termine.adfc.de/radveranstaltung/132064-montag-morgen-t
 our
END:VEVENT
END:VCALENDAR
