BEGIN:VCALENDAR
PRODID:-//github.com/rianjs/ical.net//NONSGML ical.net 4.0//EN
VERSION:2.0
BEGIN:VEVENT
DESCRIPTION:Radtour über Bornheim zum Heider Bergsee bei Brühl. Rückfahrt 
 über Wesseling und am Rhein entlang.\nhttps://touren-termine.adfc.de/radv
 eranstaltung/164094-dienstagstour-zum-heider-bergsee
DTEND:20250617T150000Z
DTSTAMP:20260421T102341Z
DTSTART:20250617T080000Z
LOCATION: Rheinufer unterhalb der Oper (Kennedybrücke)\, 53111 Bonn
SEQUENCE:0
SUMMARY:Dienstagstour zum Heider Bergsee
UID:735a41ea-169a-4286-94db-9a0edb343b40
URL:https://touren-termine.adfc.de/radveranstaltung/164094-dienstagstour-z
 um-heider-bergsee
END:VEVENT
END:VCALENDAR
