BEGIN:VCALENDAR
PRODID:-//github.com/rianjs/ical.net//NONSGML ical.net 4.0//EN
VERSION:2.0
BEGIN:VEVENT
DESCRIPTION:Auf dem Holländerrundweg von Oranienburg zum Stadthafen nach L
 iebenwalde und zurück\nhttps://touren-termine.adfc.de/radveranstaltung/14
 1208-herbsttour-nach-liebenwalde
DTEND:20241027T150000Z
DTSTAMP:20260425T231828Z
DTSTART:20241027T090000Z
LOCATION:Bahnhof\, 16515 Oranienburg
SEQUENCE:0
SUMMARY:Herbsttour nach Liebenwalde
UID:796809cd-5768-41e9-aa6b-e20688ca96f1
URL:https://touren-termine.adfc.de/radveranstaltung/141208-herbsttour-nach
 -liebenwalde
END:VEVENT
END:VCALENDAR
