BEGIN:VCALENDAR
PRODID:-//github.com/rianjs/ical.net//NONSGML ical.net 4.0//EN
VERSION:2.0
BEGIN:VEVENT
DESCRIPTION:Feierabendtouren in die nähere Umgebung\, Distanz 20 - 30 km\,
  oft mit Einkehr.\nhttps://touren-termine.adfc.de/radveranstaltung/187676
 -gilchinger-feierabendtour
DTEND:20260619T180000Z
DTSTAMP:20260425T150207Z
DTSTART:20260619T150000Z
LOCATION:Marktplatz\, 82205 Gilching
SEQUENCE:0
SUMMARY:Gilchinger Feierabendtour
UID:88ae0688-413c-40e8-95e2-a11cabf8e659
URL:https://touren-termine.adfc.de/radveranstaltung/187676-gilchinger-feie
 rabendtour
END:VEVENT
END:VCALENDAR
