BEGIN:VCALENDAR
PRODID:-//github.com/rianjs/ical.net//NONSGML ical.net 4.0//EN
VERSION:2.0
BEGIN:VEVENT
DESCRIPTION:ca. 40 km\, 16-18 km/h\, Start: Parkplatz Stadtwaldweiher Rhey
 dt\, 04.04.2026\, 10:00 Uhr. Vom Rheydter Stadtwald nach Tüschenbroich mi
 t der Einkehrmöglichkeit Angelpark und zurück.\nhttps://touren-termine.ad
 fc.de/radveranstaltung/186250-rheydt-tuschenbroich-rheydt
DTEND:20260404T130000Z
DTSTAMP:20260420T232230Z
DTSTART:20260404T080000Z
LOCATION:An der Rheydter Höhe 48\, 41239 Mönchengladbach
SEQUENCE:0
SUMMARY:Rheydt - Tüschenbroich - Rheydt
UID:48af12e6-3949-44fc-8fa2-6a9b1cdcd64d
URL:https://touren-termine.adfc.de/radveranstaltung/186250-rheydt-tuschenb
 roich-rheydt
END:VEVENT
END:VCALENDAR
