BEGIN:VCALENDAR
PRODID:-//github.com/rianjs/ical.net//NONSGML ical.net 4.0//EN
VERSION:2.0
BEGIN:VEVENT
DESCRIPTION:Zur Mondorfer Fähre. Nach dem Übersetzen geht es über Bornheim
  zum Heider Bergsee. Dort Einkehr und anschließende Rückfahrt über Wessel
 ing am Rhein entlang zurück zur Mondorfer Fähre.\nhttps://touren-termine.
 adfc.de/radveranstaltung/150769-zum-heider-bergsee
DTEND:20250622T140000Z
DTSTAMP:20260421T102239Z
DTSTART:20250622T090000Z
LOCATION: Rheidt\, kath. Kirche\, 53859 Niederkassel
SEQUENCE:0
SUMMARY:Zum Heider Bergsee
UID:67ced15a-9f29-43e6-84a9-90499d8d786b
URL:https://touren-termine.adfc.de/radveranstaltung/150769-zum-heider-berg
 see
END:VEVENT
END:VCALENDAR
