BEGIN:VCALENDAR
PRODID:-//github.com/rianjs/ical.net//NONSGML ical.net 4.0//EN
VERSION:2.0
BEGIN:VEVENT
DESCRIPTION:Über dem Talnebel mit dem PEDELEC auf den Höhen nach Jagdhaus.
  Viele Waldwege\, auch mit Gefälle\, und kleine Straßen. Einkehr im Schäf
 erhof. Anmeldung erforderlich\, da Teilnehmerzahl begrenzt.\nhttps://tour
 en-termine.adfc.de/radveranstaltung/141437-uber-den-wolken-nach-jagdhaus
DTEND:20241023T150000Z
DTSTAMP:20260422T234415Z
DTSTART:20241023T070000Z
LOCATION:Marburgerstraße\, Roter Platz\, 57223 Kreuztal
SEQUENCE:0
SUMMARY:Über den Wolken nach Jagdhaus
UID:c859c52b-3a3d-4a0c-8627-c25c7d99390c
URL:https://touren-termine.adfc.de/radveranstaltung/141437-uber-den-wolken
 -nach-jagdhaus
END:VEVENT
END:VCALENDAR
