BEGIN:VCALENDAR
PRODID:-//github.com/rianjs/ical.net//NONSGML ical.net 4.0//EN
VERSION:2.0
BEGIN:VEVENT
DESCRIPTION:3.6. = Weltfahrradtag\, Grund zum Feiern!? In Langenhagen stie
 gen die Fahrradunfälle 2017 => 2023 um 14 %: In der gesamten Region Hanno
 ver (incl. Langenhagen!) um 25 %.\nhttps://touren-termine.adfc.de/radvera
 nstaltung/108630-weltfahrradtag-
DTEND:20250603T215500Z
DTSTAMP:20260424T173350Z
DTSTART:20250603T150000Z
LOCATION:Stadtgebiet 30851\, 30855\, 30853 Langenhagen
SEQUENCE:0
SUMMARY:Weltfahrradtag ⓇⓈ
UID:651c7887-74cd-48f9-b31a-35c82f77a79f
URL:https://touren-termine.adfc.de/radveranstaltung/108630-weltfahrradtag-
END:VEVENT
END:VCALENDAR
