BEGIN:VCALENDAR
PRODID:-//github.com/rianjs/ical.net//NONSGML ical.net 4.0//EN
VERSION:2.0
BEGIN:VEVENT
DESCRIPTION:Interessierte Fahrradfreunde sind zum Aktiventreffen herzlich 
 willkommen!\nhttps://touren-termine.adfc.de/radveranstaltung/149915-adfc-
 aktiventreffen
DTEND:20251016T183000Z
DTSTAMP:20260420T150509Z
DTSTART:20251016T163000Z
LOCATION:Alsenstraße 27\, 44789 Bochum
SEQUENCE:0
SUMMARY:ADFC Aktiventreffen
UID:65bd74b1-f031-42f9-968a-9419d6b3bd5d
URL:https://touren-termine.adfc.de/radveranstaltung/149915-adfc-aktiventre
 ffen
END:VEVENT
END:VCALENDAR
