BEGIN:VCALENDAR
PRODID:-//github.com/rianjs/ical.net//NONSGML ical.net 4.0//EN
VERSION:2.0
BEGIN:VEVENT
DESCRIPTION:Der ADFC Wuppertal / Solingen bietet in Kooperation mit dem AD
 FC Langenfeld-Monheim Fahrradcodierungen an. Die Fahrradcodierung erschwe
 rt Langfingern die Arbeit und mindert den Wiederverkaufswert.\nhttps://to
 uren-termine.adfc.de/radveranstaltung/105368-fahrrad-codierung-zum-nachha
 ltigkeitsfestival
DTEND:20230818T160000Z
DTSTAMP:20260421T172637Z
DTSTART:20230818T100000Z
LOCATION:Gründer- und Technologiezentrum Solingen\, 42657 Solingen
SEQUENCE:0
SUMMARY:Fahrrad Codierung zum Nachhaltigkeitsfestival
UID:28fc3314-c262-44f6-9fde-6819246858ac
URL:https://touren-termine.adfc.de/radveranstaltung/105368-fahrrad-codieru
 ng-zum-nachhaltigkeitsfestival
END:VEVENT
END:VCALENDAR
