BEGIN:VCALENDAR
PRODID:-//github.com/rianjs/ical.net//NONSGML ical.net 4.0//EN
VERSION:2.0
BEGIN:VEVENT
DESCRIPTION:Jeden Montag findet morgens eine Radtour statt.\nhttps://toure
 n-termine.adfc.de/radveranstaltung/102908-montag-morgen-tour
DTEND:20230612T100000Z
DTSTAMP:20260423T201451Z
DTSTART:20230612T080000Z
LOCATION:In der Ahe 29\, 27356 Rotenburg
SEQUENCE:0
SUMMARY:Montag Morgen Tour
UID:b2a31d20-6a94-413c-9d0b-5df305dc7f68
URL:https://touren-termine.adfc.de/radveranstaltung/102908-montag-morgen-t
 our
END:VEVENT
END:VCALENDAR
