BEGIN:VCALENDAR
PRODID:-//github.com/rianjs/ical.net//NONSGML ical.net 4.0//EN
VERSION:2.0
BEGIN:VEVENT
DESCRIPTION:Von Angermünde über Kloster Chorin und Niederfinow nach Ebersw
 alde radeln.\nhttps://touren-termine.adfc.de/radveranstaltung/130584-klos
 ter-und-ackerfreuden
DTEND:20240501T160000Z
DTSTAMP:20260421T233057Z
DTSTART:20240501T073000Z
LOCATION:Bhf. Berlin Südkreuz\, Ringbahnsteig (östliches Ende)\, 10829 Ber
 lin
SEQUENCE:0
SUMMARY:Kloster- und Acker-Freuden
UID:ffe94082-f5bf-49a3-a963-eb6e0be48e8e
URL:https://touren-termine.adfc.de/radveranstaltung/130584-kloster-und-ack
 erfreuden
END:VEVENT
END:VCALENDAR
