BEGIN:VCALENDAR
PRODID:-//github.com/rianjs/ical.net//NONSGML ical.net 4.0//EN
VERSION:2.0
BEGIN:VEVENT
DESCRIPTION:Feierabentour über Stillern nachRaisting\nhttps://touren-termi
 ne.adfc.de/radveranstaltung/197513-feierabendtour
DTEND:20260807T183000Z
DTSTAMP:20260421T100626Z
DTSTART:20260807T150000Z
LOCATION:Marienplatz\, 82362 Weilheim
SEQUENCE:0
SUMMARY:Feierabendtour
UID:e7cef475-0082-4877-9f04-c58f1579338d
URL:https://touren-termine.adfc.de/radveranstaltung/197513-feierabendtour
END:VEVENT
END:VCALENDAR
