BEGIN:VCALENDAR
PRODID:-//github.com/rianjs/ical.net//NONSGML ical.net 4.0//EN
VERSION:2.0
BEGIN:VEVENT
DESCRIPTION:Schattige Ganztagestour von Haßloch nach Speyer - damit auch f
 ür heiße Sommertage geeignet!\nhttps://touren-termine.adfc.de/radveransta
 ltung/110119-schattige-ganztagestour-von-hassloch-nach-speyer
DTEND:20240817T130000Z
DTSTAMP:20260425T173651Z
DTSTART:20240817T080000Z
LOCATION:Rathausplatz\, 67454 Haßloch
SEQUENCE:0
SUMMARY:Schattige Ganztagestour von Haßloch nach Speyer
UID:345ea313-551d-4797-a5a5-67ac34d0570a
URL:https://touren-termine.adfc.de/radveranstaltung/110119-schattige-ganzt
 agestour-von-hassloch-nach-speyer
END:VEVENT
END:VCALENDAR
