BEGIN:VCALENDAR
PRODID:-//github.com/rianjs/ical.net//NONSGML ical.net 4.0//EN
VERSION:2.0
BEGIN:VEVENT
DESCRIPTION:Pedelec-Sicherheitstraining in Kooperation mit der Kreispolize
 ibehörde und dem Fahrradhändler WEDA\nhttps://touren-termine.adfc.de/radv
 eranstaltung/134180-pedelecsicherheitstraining
DTEND:20240626T160000Z
DTSTAMP:20260423T031210Z
DTSTART:20240626T140000Z
LOCATION:Hermann-Böttger-Straße 2\, 57319 Bad Berleburg
SEQUENCE:0
SUMMARY:Pedelec-Sicherheitstraining
UID:41229eb7-fcfa-4294-a256-5aac324d6d19
URL:https://touren-termine.adfc.de/radveranstaltung/134180-pedelecsicherhe
 itstraining
END:VEVENT
END:VCALENDAR
