BEGIN:VCALENDAR
PRODID:-//github.com/rianjs/ical.net//NONSGML ical.net 4.0//EN
VERSION:2.0
BEGIN:VEVENT
DESCRIPTION:Niemand ist perfekt\, das Radwegesystem in Cuxhaven schon gar 
 nicht!\nWir unterhalten uns über alle Dinge rund ums Fahrrad und nehmen W
 ünsche und Anregungen an.\nhttps://touren-termine.adfc.de/radveranstaltun
 g/114682-kaffeestunde
DTEND:20240708T150000Z
DTSTAMP:20260421T021511Z
DTSTART:20240708T130000Z
LOCATION:Bürgerbahnhof\, Am Bahnhof 1\, 27472 Cuxhaven
SEQUENCE:0
SUMMARY:Kaffeestunde
UID:d82a1f9d-7970-4ae2-ac41-a535f6393f88
URL:https://touren-termine.adfc.de/radveranstaltung/114682-kaffeestunde
END:VEVENT
END:VCALENDAR
