BEGIN:VCALENDAR
PRODID:-//github.com/rianjs/ical.net//NONSGML ical.net 4.0//EN
VERSION:2.0
BEGIN:VEVENT
DESCRIPTION:Kinder wollen sich bewegen und das am liebsten draußen in der 
 Natur. Genau das könnt ihr jetzt mit dem ADFC Forchheim. Mit dem Fahrrad 
 erkunden wir mit euch die Umgebung rund um Forchheim.\nhttps://touren-ter
 mine.adfc.de/radveranstaltung/159837-kinderradtour-pflanzen-unserer-felde
 r-teil-1
DTEND:20250510T143000Z
DTSTAMP:20260420T104220Z
DTSTART:20250510T113000Z
LOCATION:Parkplatz Ehrenbürg-Halle\,Ruhalmstraße\, 91301 Forchheim
SEQUENCE:0
SUMMARY:Kinderradtour  Pflanzen unserer Felder - Teil 1
UID:b03ee57c-7a10-45fa-ba7a-c29973b584d6
URL:https://touren-termine.adfc.de/radveranstaltung/159837-kinderradtour-p
 flanzen-unserer-felder-teil-1
END:VEVENT
END:VCALENDAR
